BEGIN:VCALENDAR
VERSION:2.0
PRODID:-//wp-events-plugin.com//7.2.3.1//EN
TZID:America/New_York
X-WR-TIMEZONE:America/New_York
BEGIN:VEVENT
UID:1098@colonialbeachevents.com
DTSTART;TZID=America/New_York:20260815T100000
DTEND;TZID=America/New_York:20260816T170000
DTSTAMP:20260217T014246Z
URL:https://colonialbeachevents.com/events/annual-colonial-beach-water-fes
 t-3/
SUMMARY:Annual Colonial Beach Water Fest
DESCRIPTION:The Water Fest is a fun\, family-oriented\, 2-day event held on
  the Colonial Beach Boardwalk. The Water Fest features a water slide and c
 ontests\, a storyteller\, and if you are lucky you might even spot a real-
 live mermaid! Dress up as pirates and mermaids with the kids and/or grandk
 ids for an extraordinary time at the beach!\n\nFor more details\, visit ht
 tps://colonialbeach.org/\n\n\nWant to be a vendor at this event?\nThe Colo
 nial Beach Chamber of Commerce welcomes all vendors to this event.  Pleas
 e see fees and applicable rules on the Vendor Registration page.  Payment
 s can be made online with a credit card or mailed to the Chamber office. 
  Current Chamber members receive a 20% discount on all vendor registration
 s.\n\nTo Register\, visit our Vendor Registration page.\n\n
ATTACH;FMTTYPE=image/jpeg:https://colonialbeachevents.com/wp-content/uploa
 ds/2026/02/Chamber-Signature-Event-2026-1.jpg
CATEGORIES:Celebration,Entertainment,Family Activity,Festival
LOCATION:Colonial Beach Boardwalk\, 301 Beach Terrace\, Colonial Beach\, Vi
 rginia\, 22443\, United States
X-APPLE-STRUCTURED-LOCATION;VALUE=URI;X-ADDRESS=301 Beach Terrace\, Colonia
 l Beach\, Virginia\, 22443\, United States;X-APPLE-RADIUS=100;X-TITLE=Colo
 nial Beach Boardwalk:geo:0,0
END:VEVENT
BEGIN:VTIMEZONE
TZID:America/New_York
X-LIC-LOCATION:America/New_York
BEGIN:DAYLIGHT
DTSTART:20260308T030000
TZOFFSETFROM:-0500
TZOFFSETTO:-0400
TZNAME:EDT
END:DAYLIGHT
END:VTIMEZONE
END:VCALENDAR