BEGIN:VCALENDAR
VERSION:2.0
PRODID:-//wp-events-plugin.com//7.2.3.1//EN
TZID:America/New_York
X-WR-TIMEZONE:America/New_York
BEGIN:VEVENT
UID:1097@colonialbeachevents.com
DTSTART;TZID=America/New_York:20260815T080000
DTEND;TZID=America/New_York:20260816T170000
DTSTAMP:20260217T013928Z
URL:https://colonialbeachevents.com/events/annual-rod-run-to-the-beach-3/
SUMMARY:Annual Rod Run to the Beach
DESCRIPTION:Rev up your excitement because the Annual Rod Run to the Beach 
 in Colonial Beach is back\, and it's revving into town with a spectacular 
 lineup of your favorite hot rods\, muscle cars\, and customized classics! 
 Mark your calendars for this thrilling 2-day car show\, which takes place 
 on the third weekend in August. As you wander through the event\, you'll b
 e serenaded by the perfect background tunes\, and there will be a tempting
  array of food and merchandise vendors to satisfy your cravings while you 
 take in the automotive eye candy. The Town Hill\, situated at the corner o
 f Colonial and Washington Avenues\, will be buzzing with the most jaw-drop
 ping creations you've ever seen at this time-honored gathering of car enth
 usiasts. If you're a true "gearhead\," this is the ultimate destination to
  feed your passion and immerse yourself in the world of automotive marvels
 !\n\nHosted by Colonial Rod Club\n\nSaturday\, August 15th 8AM - ???\nSun
 day\, August 16th 8AM to 3PM\, Judging at 12PM\n\nLive Music on Saturday\n
 \nStreet rods\, street machines\, custom classics\, antiques\, light truck
 s\, and rat rods\n**Free Limited Spectator Parking in grass lot beside Tow
 n Hill**\n\nAwards\n\n 	Best in Show\n 	Top 30\n 	Top 3 Rat Rods\n 	Founde
 r's Choice\n 	and more\n\nVehicle Registration\n\n$15.00 for both days per
  car before August 14th 3:00 PM\n$20.00 for both days per car at the gate 
 (either 15th or 16th)\n\n*For those who wish to pre-register\, forms must 
 be received by August 15th at 3:00 PM\nPre-registration is required. Regis
 tration starts at 8:00 AM both days\n\nTo Register\, visit the Chamber Eve
 nt Participation page.
ATTACH;FMTTYPE=image/jpeg:https://colonialbeachevents.com/wp-content/uploa
 ds/2026/02/Chamber-Signature-Event-2026-1.jpg
CATEGORIES:Car Show
LOCATION:Colonial Beach Town Hill\, 401 Washington Ave\, Colonial Beach\, V
 A\, 22443\, United States
GEO:38.253701;-76.963562
X-APPLE-STRUCTURED-LOCATION;VALUE=URI;X-ADDRESS=401 Washington Ave\, Coloni
 al Beach\, VA\, 22443\, United States;X-APPLE-RADIUS=100;X-TITLE=Colonial 
 Beach Town Hill:geo:38.253701,-76.963562
END:VEVENT
BEGIN:VTIMEZONE
TZID:America/New_York
X-LIC-LOCATION:America/New_York
BEGIN:DAYLIGHT
DTSTART:20260308T030000
TZOFFSETFROM:-0500
TZOFFSETTO:-0400
TZNAME:EDT
END:DAYLIGHT
END:VTIMEZONE
END:VCALENDAR