BEGIN:VCALENDAR
VERSION:2.0
PRODID:-//wp-events-plugin.com//7.2.3.1//EN
TZID:America/New_York
X-WR-TIMEZONE:America/New_York
BEGIN:VEVENT
UID:1099@colonialbeachevents.com
DTSTART;TZID=America/New_York:20260509T130000
DTEND;TZID=America/New_York:20260509T160000
DTSTAMP:20260218T193425Z
URL:https://colonialbeachevents.com/events/mothers-day-tea-treats-weekend-
 2/
SUMMARY:Mother's Day Tea & Treats Weekend
DESCRIPTION:Special Tea Party at Colonial Beach Plaza Bed &amp\; Breakfast\
 nStay: Friday\, May 8th – Sunday\, May 10th\, 2026Tea Party: Saturday\, 
 May 9th at 1:00 PM\nCelebrate Mother's Day 2026 with a relaxing coastal ge
 taway and an elegant afternoon tea at the Colonial Beach Plaza Bed &amp\; 
 Breakfast. Book a minimum two-night stay and enjoy this exclusive experien
 ce designed for our adult overnight guests.\n\nMother’s Day Tea Party In
 cludes:\n\n 	\nYour choice of two exquisite hot teas or refreshing iced te
 a\n\n 	\nDelicious mini scones\n\n 	\nA beautiful assortment of decadent d
 esserts\, cookies\, and cakes\n\n\nEvening Wine Social – Saturday Night\
 nContinue the celebration with a complimentary evening wine gathering on S
 aturday\, where guests can unwind\, sip\, and savor the charm of our elega
 ntly Victorian yet delightfully modern setting.\nRelax in the warmth and c
 haracter of our historic home while creating cherished memories this Mothe
 r’s Day weekend.\nReserve your two-night stay online or call us at 804-4
 10-2895.\nWe look forward to celebrating with you!
ATTACH;FMTTYPE=image/jpeg:https://colonialbeachevents.com/wp-content/uploa
 ds/2026/02/Plaza-mothers-day-2026.jpg
CATEGORIES:Food &amp; Beverage,Holiday
LOCATION:Colonial Beach Plaza Bed and Breakfast\, 21 Weems Street\, Colonia
 l Beach\, VA\, 22443\, United States
X-APPLE-STRUCTURED-LOCATION;VALUE=URI;X-ADDRESS=21 Weems Street\, Colonial 
 Beach\, VA\, 22443\, United States;X-APPLE-RADIUS=100;X-TITLE=Colonial Bea
 ch Plaza Bed and Breakfast:geo:0,0
END:VEVENT
BEGIN:VTIMEZONE
TZID:America/New_York
X-LIC-LOCATION:America/New_York
BEGIN:DAYLIGHT
DTSTART:20260308T030000
TZOFFSETFROM:-0500
TZOFFSETTO:-0400
TZNAME:EDT
END:DAYLIGHT
END:VTIMEZONE
END:VCALENDAR