BEGIN:VCALENDAR
VERSION:2.0
PRODID:-//wp-events-plugin.com//7.2.3.1//EN
TZID:America/New_York
X-WR-TIMEZONE:America/New_York
BEGIN:VEVENT
UID:1114@colonialbeachevents.com
DTSTART;TZID=America/New_York:20260906T110000
DTEND;TZID=America/New_York:20260906T160000
DTSTAMP:20260330T232239Z
URL:https://colonialbeachevents.com/events/national-read-a-book-day-and-lo
 cal-literature-spotlight/
SUMMARY:National Read a Book Day and Local Literature Spotlight
DESCRIPTION:National Read a Book Day at Historic James Monroe Birthplace an
 d Boyhood Home\n\n&nbsp\;\n\nJoin us for a special community event at the 
 James Monroe Birthplace and Boyhood Home celebrating National\nRead a Book
  Day on September 6th from 11:00 AM–4:00 PM. This program is designed to
  celebrate\nliterature set locally and local authors.\n\nThe event will hi
 ghlight the rich talents grown in Virginia by showcasing authors\, storyte
 llers\, and\norganizations that promote reading\, writing\, and literary e
 ngagement. We hope to create a\nwelcoming\, family-friendly atmosphere tha
 t connects our community with the people and stories that\nshape it.\n\nAr
 e you a local author who'd like to participate? Reach out to Dr. Theresa S
 nell at reese.m.snell@gmail.com\n\nWe would love for your organization  t
 o participate in one or more of the following ways:\n• Hosting a table t
 o share information about your work\n• Featuring local authors for book 
 signings or readings\n• Leading a short interactive activity for childre
 n and families\n• Offering resources that encourage literacy and communi
 ty engagement\n\nThis event will be held outdoors on the historic grounds\
 , and we anticipate a strong turnout of\nfamilies and community members. T
 here is no cost to participate\, and we are\nhappy to collaborate to make 
 your involvement meaningful and engaging.\n\nIf you are interested\, pleas
 e let us know by August 6\, 2026 and feel free to share any ideas you may\
 nhave. We would be delighted to partner with you in making this a memorabl
 e celebration of reading\nand local talent. Thank you for considering this
  opportunity. I look forward to hearing from you.
ATTACH;FMTTYPE=image/jpeg:https://colonialbeachevents.com/wp-content/uploa
 ds/2026/03/Local-Literature-png.png
CATEGORIES:Art,Family Activity,History,Kid Friendly,Shopping
LOCATION:James Monroe Birthplace and Boyhood Home\, 4460 James Monroe Highw
 ay\, Colonial Beach\, VA\, United States
GEO:38.241429;-76.989346
X-APPLE-STRUCTURED-LOCATION;VALUE=URI;X-ADDRESS=4460 James Monroe Highway\,
  Colonial Beach\, VA\, United States;X-APPLE-RADIUS=100;X-TITLE=James Monr
 oe Birthplace and Boyhood Home:geo:38.241429,-76.989346
END:VEVENT
BEGIN:VTIMEZONE
TZID:America/New_York
X-LIC-LOCATION:America/New_York
BEGIN:DAYLIGHT
DTSTART:20260308T030000
TZOFFSETFROM:-0500
TZOFFSETTO:-0400
TZNAME:EDT
END:DAYLIGHT
END:VTIMEZONE
END:VCALENDAR