BEGIN:VCALENDAR
VERSION:2.0
PRODID:-//wp-events-plugin.com//7.2.3.1//EN
TZID:America/New_York
X-WR-TIMEZONE:America/New_York
BEGIN:VEVENT
UID:1115@colonialbeachevents.com
DTSTART;TZID=America/New_York:20260502T113000
DTEND;TZID=America/New_York:20260502T123000
DTSTAMP:20260330T231820Z
URL:https://colonialbeachevents.com/events/story-and-craft-hour-at-histori
 c-james-monroe-birthplace-and-boyhood-home/
SUMMARY:Story and Craft Hour at Historic James Monroe Birthplace and Boyhoo
 d Home
DESCRIPTION:Join us at the James Monroe Birthplace and Boyhood Home as we h
 ost story time and craft hour. Enjoy learning about our 5th president and 
 try a colonial inspired craft. Afterwards\, feel free to explore the groun
 ds and take a tour.
ATTACH;FMTTYPE=image/jpeg:https://colonialbeachevents.com/wp-content/uploa
 ds/2026/03/Story-Hour-Invitation1.png
CATEGORIES:Family Activity,History,Kid Friendly
LOCATION:James Monroe Birthplace and Boyhood Home\, 4460 James Monroe Highw
 ay\, Colonial Beach\, VA\, United States
GEO:38.241429;-76.989346
X-APPLE-STRUCTURED-LOCATION;VALUE=URI;X-ADDRESS=4460 James Monroe Highway\,
  Colonial Beach\, VA\, United States;X-APPLE-RADIUS=100;X-TITLE=James Monr
 oe Birthplace and Boyhood Home:geo:38.241429,-76.989346
END:VEVENT
BEGIN:VTIMEZONE
TZID:America/New_York
X-LIC-LOCATION:America/New_York
BEGIN:DAYLIGHT
DTSTART:20260308T030000
TZOFFSETFROM:-0500
TZOFFSETTO:-0400
TZNAME:EDT
END:DAYLIGHT
END:VTIMEZONE
END:VCALENDAR