BEGIN:VCALENDAR
VERSION:2.0
PRODID:-//wp-events-plugin.com//7.2.3.1//EN
TZID:America/New_York
X-WR-TIMEZONE:America/New_York
BEGIN:VEVENT
UID:788@colonialbeachevents.com
DTSTART;TZID=America/New_York:20250405T110000
DTEND;TZID=America/New_York:20250405T180000
DTSTAMP:20250312T202634Z
URL:https://colonialbeachevents.com/events/stratford-hall-brews-bbq-festiv
 al/
SUMMARY:Stratford Hall Brews & BBQ Festival
DESCRIPTION:Come to Stratford Hall this spring for the Brews &amp\; BBQ Fes
 tival\, where you can enjoy an incredible line-up of craft brews. A festiv
 al ticket lets you roam freely between vendors\, sampling their unique off
 erings—each pour is just a purchase away\, with breweries selling 16oz p
 ours for $8 per glass.\n\nBe among the first 1\,500 ticket purchases to re
 ceive a souvenir tasting glass! In addition to the breweries\, you’ll al
 so have access to BBQ pitmasters serving up mouthwatering barbecue\, local
  wineries\, a spread of other local fare and sweet treats\, artisan vendor
 s\, and live music! Discover the best of Virginia’s brews\, wines\, bite
 s\, and shopping—with each pour and plate available for purchase\, immer
 se yourself in the region’s unique flavors and finds!\n\nEarliest Bird A
 dmission (14+): $20 from November 1\, 2024 – February 2\, 2025\n\nEarly 
 Bird Admission (14+): $25 from February 3 – March 3\, 2025\n\nGeneral Ad
 mission Ticket (14+): $35 March 4 – April 3\, 2025 for online ticket sal
 es.\n\nGeneral Admission tickets may be purchased at the festival entrance
  for $45.\n\n$10 for ages 6-13\n\n$5 for ages 5 and under\n\nBring your fa
 mily and friends and spend the day in a Party Tent at the Brews &amp\; BBQ
  Festival!\nFor $325\, you and an unlimited number of guests can enjoy a s
 haded\, private space that includes a 15’x15′ frame tent\, 8′ long t
 able\, and 4 chairs. The party tents will be in a great location with a wo
 nderful view of the c. 1738 Great House. Choose from two time slots to res
 erve your tent when purchasing tickets. The tent will be yours for the dur
 ation of your time slot. Limited tents are available on a first come\, fir
 st served basis. Festival tickets are not included.\n\nFor more informati
 on\, visit our Brews &amp\; BBQ Festival website: https://www.stratfordha
 ll.org/brewsbbqfestival2025/.
ATTACH;FMTTYPE=image/jpeg:https://colonialbeachevents.com/wp-content/uploa
 ds/2025/03/Stratford-Hall-Brews-and-BBQ.jpg
LOCATION:Stratford Hall\, 483 Great House Rd\, Stratford Hall\, Virginia\, 
 United States
X-APPLE-STRUCTURED-LOCATION;VALUE=URI;X-ADDRESS=483 Great House Rd\, Stratf
 ord Hall\, Virginia\, United States;X-APPLE-RADIUS=100;X-TITLE=Stratford H
 all:geo:0,0
END:VEVENT
BEGIN:VTIMEZONE
TZID:America/New_York
X-LIC-LOCATION:America/New_York
BEGIN:DAYLIGHT
DTSTART:20250309T030000
TZOFFSETFROM:-0500
TZOFFSETTO:-0400
TZNAME:EDT
END:DAYLIGHT
END:VTIMEZONE
END:VCALENDAR