BEGIN:VCALENDAR
VERSION:2.0
PRODID:-//wp-events-plugin.com//7.2.3.1//EN
TZID:America/New_York
X-WR-TIMEZONE:America/New_York
BEGIN:VEVENT
UID:1101@colonialbeachevents.com
DTSTART;TZID=America/New_York:20260418T000000
DTEND;TZID=America/New_York:20260425T000000
DTSTAMP:20260218T195131Z
URL:https://colonialbeachevents.com/events/virginia-historic-garden-week/
SUMMARY:Virginia Historic Garden Week
DESCRIPTION:Garden Club of Virginia present Historic Garden Week\n\nFor one
  week next spring\, visitors will tour inspired private landscapes\, publi
 c gardens and historic sites across Virginia\, enjoying our beautiful stat
 e at the peak of spring. In addition\, more than 1\,000 world-class floral
  arrangements created by Garden Club of Virginia members will enhance tour
  properties. This beloved statewide event will include unique tours organi
 zed and hosted by 48 member clubs located from the foothills of the Shenan
 doah Valley all the way to the beaches of Tidewater.\n\nThis statewide eve
 nt includes access to over 120 private homes and gardens throughout Virgi
 nia and is organized geographically.\n\nNorthern Neck Tour Information ca
 n be found at https://gcvirginia.org/historic-garden-week/tours/northern-n
 eck/#tour\n\nFor more information\, visit https://gcvirginia.org/historic-
 garden-week/
ATTACH;FMTTYPE=image/jpeg:https://colonialbeachevents.com/wp-content/uploa
 ds/2026/02/Colonial-Beach-Events-Historic-Garden-Week.jpg
CATEGORIES:Tour
END:VEVENT
BEGIN:VTIMEZONE
TZID:America/New_York
X-LIC-LOCATION:America/New_York
BEGIN:DAYLIGHT
DTSTART:20260308T030000
TZOFFSETFROM:-0500
TZOFFSETTO:-0400
TZNAME:EDT
END:DAYLIGHT
END:VTIMEZONE
END:VCALENDAR