BEGIN:VCALENDAR
VERSION:2.0
PRODID:-//wp-events-plugin.com//7.2.3.1//EN
TZID:America/New_York
X-WR-TIMEZONE:America/New_York
BEGIN:VEVENT
UID:1100@colonialbeachevents.com
DTSTART;TZID=America/New_York:20260411T090000
DTEND;TZID=America/New_York:20260411T170000
DTSTAMP:20260218T194010Z
URL:https://colonialbeachevents.com/events/virginia-osprey-festival-2026/
SUMMARY:Virginia Osprey Festival 2026
DESCRIPTION:Mark your calendars for a beloved Northern Neck tradition! The 
 2026 Virginia Osprey Festival is soaring back to Colonial Beach on April 1
 1\, 2026\, celebrating the return of the ospreys and the vibrant coastal c
 ommunity that gathers to welcome them home.\nThis family-friendly festival
  is packed with nature\, education\, local flavor\, and fun for all ages
 —set against the beautiful backdrop of the Potomac River. Whether you’
 re a longtime attendee or a first-time visitor\, this is a spring event yo
 u won’t want to miss.\n​Early Bird Tickets\n\n\n 	 ***All events on T
 own Hill are FREE***\n 	This includes all exhibits and activities\n\nTicke
 ts Are Required For:\n\n\n 	All Presentations at the Fisheries Building\n 
 	Personal Golf Cart Nest Tours\n\nSingle- $10.00\nFull Nest- $15 (family t
 icket)\nChildren 12 and under are FREE and must be accompanied by an adult
 .\nTicket prices increase by $5.00 on day of festival so get them now!\nFo
 r more information and to purchase tickets\, visit https://www.virginiaosp
 reyfoundation.org/\n\n&nbsp\;
ATTACH;FMTTYPE=image/jpeg:https://colonialbeachevents.com/wp-content/uploa
 ds/2026/02/Colonial-Beach-Events-Osprey-Festival-2026-full.jpg
CATEGORIES:Entertainment,Festival,Kid Friendly,Music
LOCATION:Colonial Beach Town Hill\, 401 Washington Ave\, Colonial Beach\, V
 A\, 22443\, United States
GEO:38.253701;-76.963562
X-APPLE-STRUCTURED-LOCATION;VALUE=URI;X-ADDRESS=401 Washington Ave\, Coloni
 al Beach\, VA\, 22443\, United States;X-APPLE-RADIUS=100;X-TITLE=Colonial 
 Beach Town Hill:geo:38.253701,-76.963562
END:VEVENT
BEGIN:VTIMEZONE
TZID:America/New_York
X-LIC-LOCATION:America/New_York
BEGIN:DAYLIGHT
DTSTART:20260308T030000
TZOFFSETFROM:-0500
TZOFFSETTO:-0400
TZNAME:EDT
END:DAYLIGHT
END:VTIMEZONE
END:VCALENDAR