BEGIN:VCALENDAR
VERSION:2.0
PRODID:-//wp-events-plugin.com//7.2.3.1//EN
TZID:America/New_York
X-WR-TIMEZONE:America/New_York
BEGIN:VEVENT
UID:1113@colonialbeachevents.com
DTSTART;TZID=America/New_York:20260419T130000
DTEND;TZID=America/New_York:20260419T160000
DTSTAMP:20260407T180822Z
URL:https://colonialbeachevents.com/events/yourth-volunteer-day-at-james-m
 onroe-birthplace-and-boyhood-home/
SUMMARY:Youth Volunteer Day at James Monroe Birthplace and Boyhood Home
DESCRIPTION:Join the volunteers at the James Monroe Birthplace and Boyhood 
 Home on April 19th from 1:00–4:00 PM for an afternoon of hands-on servic
 e. Don’t forget your work gloves! We’ll be clearing trails and tacklin
 g projects to prepare for the busy season ahead.\nWe’re also welcoming t
 eens interested in becoming tour guides—training is available\, and all 
 volunteer hours can be logged and verified.\nBe sure to check our Facebook
  page regularly for updates and a full list of upcoming free events.
ATTACH;FMTTYPE=image/jpeg:https://colonialbeachevents.com/wp-content/uploa
 ds/2026/03/Youth-Volunteer-Day.png
CATEGORIES:Kid Friendly
LOCATION:James Monroe Birthplace and Boyhood Home\, 4460 James Monroe Highw
 ay \, Colonial Beach\, VA\, 22443\, Westmoreland County\, United States
GEO:38.241429;-76.989346
X-APPLE-STRUCTURED-LOCATION;VALUE=URI;X-ADDRESS=4460 James Monroe Highway \
 , Colonial Beach\, VA\, 22443\, Westmoreland County\, United States;X-APPL
 E-RADIUS=100;X-TITLE=James Monroe Birthplace and Boyhood Home:geo:38.24142
 9,-76.989346
END:VEVENT
BEGIN:VTIMEZONE
TZID:America/New_York
X-LIC-LOCATION:America/New_York
BEGIN:DAYLIGHT
DTSTART:20260308T030000
TZOFFSETFROM:-0500
TZOFFSETTO:-0400
TZNAME:EDT
END:DAYLIGHT
END:VTIMEZONE
END:VCALENDAR